<?xml version="1.0" encoding="UTF-8"?>
<Capabilities xmlns="http://www.opengis.net/wmts/1.0" xmlns:ows="http://www.opengis.net/ows/1.1" xmlns:xlink="http://www.w3.org/1999/xlink" xmlns:xsi="http://www.w3.org/2001/XMLSchema-instance" xsi:schemaLocation="http://www.opengis.net/wmts/1.0 http://schemas.opengis.net/wmts/1.0/wmtsGetCapabilities_response.xsd" xmlns:gml="http://www.opengis.net/gml" version="1.0.0"><ows:ServiceIdentification><ows:Title>CmWorldServer WMTS</ows:Title><ows:Abstract>CmWorldServer 3.0 — OGC WMTS 1.0.0 endpoint (CmWorld Co. Ltd.)</ows:Abstract><ows:ServiceType>OGC WMTS</ows:ServiceType><ows:ServiceTypeVersion>1.0.0</ows:ServiceTypeVersion></ows:ServiceIdentification><ows:ServiceProvider><ows:ProviderName>CmWorld Co. Ltd.</ows:ProviderName><ows:ProviderSite xlink:href="https://www.cmworld.co.kr"/><ows:ServiceContact><ows:IndividualName>CmWorld Support</ows:IndividualName></ows:ServiceContact></ows:ServiceProvider><ows:OperationsMetadata><ows:Operation name="GetCapabilities"><ows:DCP><ows:HTTP><ows:Get xlink:href="https://ogc.cmworld.co.kr/ogc/wmts?"><ows:Constraint name="GetEncoding"><ows:AllowedValues><ows:Value>KVP</ows:Value></ows:AllowedValues></ows:Constraint></ows:Get></ows:HTTP></ows:DCP></ows:Operation><ows:Operation name="GetTile"><ows:DCP><ows:HTTP><ows:Get xlink:href="https://ogc.cmworld.co.kr/ogc/wmts?"><ows:Constraint name="GetEncoding"><ows:AllowedValues><ows:Value>KVP</ows:Value></ows:AllowedValues></ows:Constraint></ows:Get></ows:HTTP></ows:DCP></ows:Operation></ows:OperationsMetadata><Contents><Layer><ows:Title>korea_image_gft</ows:Title><ows:Abstract>전국 이미지 gft</ows:Abstract><ows:WGS84BoundingBox><ows:LowerCorner>-180 -85.05</ows:LowerCorner><ows:UpperCorner>180 85.05</ows:UpperCorner></ows:WGS84BoundingBox><ows:Identifier>korea_image_gft</ows:Identifier><Style isDefault="true"><ows:Identifier>default</ows:Identifier></Style><Format>image/png</Format><TileMatrixSetLink><TileMatrixSet>WebMercatorQuad</TileMatrixSet></TileMatrixSetLink><TileMatrixSetLink><TileMatrixSet>GoogleMapsCompatible</TileMatrixSet></TileMatrixSetLink><ResourceURL format="image/png" resourceType="tile" template="https://ogc.cmworld.co.kr/ogc/wmts/korea_image_gft/default/WebMercatorQuad/{TileMatrix}/{TileRow}/{TileCol}.png"/></Layer><TileMatrixSet><ows:Identifier>WebMercatorQuad</ows:Identifier><ows:SupportedCRS>urn:ogc:def:crs:EPSG::3857</ows:SupportedCRS><TileMatrix><ows:Identifier>0</ows:Identifier><ScaleDenominator>559082264.0287178</ScaleDenominator><TopLeftCorner>-2.0037508342789244e+07 2.0037508342789244e+07</TopLeftCorner><TileWidth>256</TileWidth><TileHeight>256</TileHeight><MatrixWidth>1</MatrixWidth><MatrixHeight>1</MatrixHeight></TileMatrix><TileMatrix><ows:Identifier>1</ows:Identifier><ScaleDenominator>279541132.0143589</ScaleDenominator><TopLeftCorner>-2.0037508342789244e+07 2.0037508342789244e+07</TopLeftCorner><TileWidth>256</TileWidth><TileHeight>256</TileHeight><MatrixWidth>2</MatrixWidth><MatrixHeight>2</MatrixHeight></TileMatrix><TileMatrix><ows:Identifier>2</ows:Identifier><ScaleDenominator>139770566.00717944</ScaleDenominator><TopLeftCorner>-2.0037508342789244e+07 2.0037508342789244e+07</TopLeftCorner><TileWidth>256</TileWidth><TileHeight>256</TileHeight><MatrixWidth>4</MatrixWidth><MatrixHeight>4</MatrixHeight></TileMatrix><TileMatrix><ows:Identifier>3</ows:Identifier><ScaleDenominator>69885283.00358972</ScaleDenominator><TopLeftCorner>-2.0037508342789244e+07 2.0037508342789244e+07</TopLeftCorner><TileWidth>256</TileWidth><TileHeight>256</TileHeight><MatrixWidth>8</MatrixWidth><MatrixHeight>8</MatrixHeight></TileMatrix><TileMatrix><ows:Identifier>4</ows:Identifier><ScaleDenominator>34942641.50179486</ScaleDenominator><TopLeftCorner>-2.0037508342789244e+07 2.0037508342789244e+07</TopLeftCorner><TileWidth>256</TileWidth><TileHeight>256</TileHeight><MatrixWidth>16</MatrixWidth><MatrixHeight>16</MatrixHeight></TileMatrix><TileMatrix><ows:Identifier>5</ows:Identifier><ScaleDenominator>17471320.75089743</ScaleDenominator><TopLeftCorner>-2.0037508342789244e+07 2.0037508342789244e+07</TopLeftCorner><TileWidth>256</TileWidth><TileHeight>256</TileHeight><MatrixWidth>32</MatrixWidth><MatrixHeight>32</MatrixHeight></TileMatrix><TileMatrix><ows:Identifier>6</ows:Identifier><ScaleDenominator>8735660.375448715</ScaleDenominator><TopLeftCorner>-2.0037508342789244e+07 2.0037508342789244e+07</TopLeftCorner><TileWidth>256</TileWidth><TileHeight>256</TileHeight><MatrixWidth>64</MatrixWidth><MatrixHeight>64</MatrixHeight></TileMatrix><TileMatrix><ows:Identifier>7</ows:Identifier><ScaleDenominator>4367830.1877243575</ScaleDenominator><TopLeftCorner>-2.0037508342789244e+07 2.0037508342789244e+07</TopLeftCorner><TileWidth>256</TileWidth><TileHeight>256</TileHeight><MatrixWidth>128</MatrixWidth><MatrixHeight>128</MatrixHeight></TileMatrix><TileMatrix><ows:Identifier>8</ows:Identifier><ScaleDenominator>2183915.0938621787</ScaleDenominator><TopLeftCorner>-2.0037508342789244e+07 2.0037508342789244e+07</TopLeftCorner><TileWidth>256</TileWidth><TileHeight>256</TileHeight><MatrixWidth>256</MatrixWidth><MatrixHeight>256</MatrixHeight></TileMatrix><TileMatrix><ows:Identifier>9</ows:Identifier><ScaleDenominator>1091957.5469310894</ScaleDenominator><TopLeftCorner>-2.0037508342789244e+07 2.0037508342789244e+07</TopLeftCorner><TileWidth>256</TileWidth><TileHeight>256</TileHeight><MatrixWidth>512</MatrixWidth><MatrixHeight>512</MatrixHeight></TileMatrix><TileMatrix><ows:Identifier>10</ows:Identifier><ScaleDenominator>545978.7734655447</ScaleDenominator><TopLeftCorner>-2.0037508342789244e+07 2.0037508342789244e+07</TopLeftCorner><TileWidth>256</TileWidth><TileHeight>256</TileHeight><MatrixWidth>1024</MatrixWidth><MatrixHeight>1024</MatrixHeight></TileMatrix><TileMatrix><ows:Identifier>11</ows:Identifier><ScaleDenominator>272989.38673277234</ScaleDenominator><TopLeftCorner>-2.0037508342789244e+07 2.0037508342789244e+07</TopLeftCorner><TileWidth>256</TileWidth><TileHeight>256</TileHeight><MatrixWidth>2048</MatrixWidth><MatrixHeight>2048</MatrixHeight></TileMatrix><TileMatrix><ows:Identifier>12</ows:Identifier><ScaleDenominator>136494.69336638617</ScaleDenominator><TopLeftCorner>-2.0037508342789244e+07 2.0037508342789244e+07</TopLeftCorner><TileWidth>256</TileWidth><TileHeight>256</TileHeight><MatrixWidth>4096</MatrixWidth><MatrixHeight>4096</MatrixHeight></TileMatrix><TileMatrix><ows:Identifier>13</ows:Identifier><ScaleDenominator>68247.34668319309</ScaleDenominator><TopLeftCorner>-2.0037508342789244e+07 2.0037508342789244e+07</TopLeftCorner><TileWidth>256</TileWidth><TileHeight>256</TileHeight><MatrixWidth>8192</MatrixWidth><MatrixHeight>8192</MatrixHeight></TileMatrix><TileMatrix><ows:Identifier>14</ows:Identifier><ScaleDenominator>34123.67334159654</ScaleDenominator><TopLeftCorner>-2.0037508342789244e+07 2.0037508342789244e+07</TopLeftCorner><TileWidth>256</TileWidth><TileHeight>256</TileHeight><MatrixWidth>16384</MatrixWidth><MatrixHeight>16384</MatrixHeight></TileMatrix><TileMatrix><ows:Identifier>15</ows:Identifier><ScaleDenominator>17061.83667079827</ScaleDenominator><TopLeftCorner>-2.0037508342789244e+07 2.0037508342789244e+07</TopLeftCorner><TileWidth>256</TileWidth><TileHeight>256</TileHeight><MatrixWidth>32768</MatrixWidth><MatrixHeight>32768</MatrixHeight></TileMatrix><TileMatrix><ows:Identifier>16</ows:Identifier><ScaleDenominator>8530.918335399136</ScaleDenominator><TopLeftCorner>-2.0037508342789244e+07 2.0037508342789244e+07</TopLeftCorner><TileWidth>256</TileWidth><TileHeight>256</TileHeight><MatrixWidth>65536</MatrixWidth><MatrixHeight>65536</MatrixHeight></TileMatrix><TileMatrix><ows:Identifier>17</ows:Identifier><ScaleDenominator>4265.459167699568</ScaleDenominator><TopLeftCorner>-2.0037508342789244e+07 2.0037508342789244e+07</TopLeftCorner><TileWidth>256</TileWidth><TileHeight>256</TileHeight><MatrixWidth>131072</MatrixWidth><MatrixHeight>131072</MatrixHeight></TileMatrix><TileMatrix><ows:Identifier>18</ows:Identifier><ScaleDenominator>2132.729583849784</ScaleDenominator><TopLeftCorner>-2.0037508342789244e+07 2.0037508342789244e+07</TopLeftCorner><TileWidth>256</TileWidth><TileHeight>256</TileHeight><MatrixWidth>262144</MatrixWidth><MatrixHeight>262144</MatrixHeight></TileMatrix><TileMatrix><ows:Identifier>19</ows:Identifier><ScaleDenominator>1066.364791924892</ScaleDenominator><TopLeftCorner>-2.0037508342789244e+07 2.0037508342789244e+07</TopLeftCorner><TileWidth>256</TileWidth><TileHeight>256</TileHeight><MatrixWidth>524288</MatrixWidth><MatrixHeight>524288</MatrixHeight></TileMatrix><TileMatrix><ows:Identifier>20</ows:Identifier><ScaleDenominator>533.182395962446</ScaleDenominator><TopLeftCorner>-2.0037508342789244e+07 2.0037508342789244e+07</TopLeftCorner><TileWidth>256</TileWidth><TileHeight>256</TileHeight><MatrixWidth>1048576</MatrixWidth><MatrixHeight>1048576</MatrixHeight></TileMatrix><TileMatrix><ows:Identifier>21</ows:Identifier><ScaleDenominator>266.591197981223</ScaleDenominator><TopLeftCorner>-2.0037508342789244e+07 2.0037508342789244e+07</TopLeftCorner><TileWidth>256</TileWidth><TileHeight>256</TileHeight><MatrixWidth>2097152</MatrixWidth><MatrixHeight>2097152</MatrixHeight></TileMatrix><TileMatrix><ows:Identifier>22</ows:Identifier><ScaleDenominator>133.2955989906115</ScaleDenominator><TopLeftCorner>-2.0037508342789244e+07 2.0037508342789244e+07</TopLeftCorner><TileWidth>256</TileWidth><TileHeight>256</TileHeight><MatrixWidth>4194304</MatrixWidth><MatrixHeight>4194304</MatrixHeight></TileMatrix><TileMatrix><ows:Identifier>23</ows:Identifier><ScaleDenominator>66.64779949530575</ScaleDenominator><TopLeftCorner>-2.0037508342789244e+07 2.0037508342789244e+07</TopLeftCorner><TileWidth>256</TileWidth><TileHeight>256</TileHeight><MatrixWidth>8388608</MatrixWidth><MatrixHeight>8388608</MatrixHeight></TileMatrix><TileMatrix><ows:Identifier>24</ows:Identifier><ScaleDenominator>33.323899747652874</ScaleDenominator><TopLeftCorner>-2.0037508342789244e+07 2.0037508342789244e+07</TopLeftCorner><TileWidth>256</TileWidth><TileHeight>256</TileHeight><MatrixWidth>16777216</MatrixWidth><MatrixHeight>16777216</MatrixHeight></TileMatrix></TileMatrixSet><TileMatrixSet><ows:Identifier>GoogleMapsCompatible</ows:Identifier><ows:SupportedCRS>urn:ogc:def:crs:EPSG::3857</ows:SupportedCRS><TileMatrix><ows:Identifier>0</ows:Identifier><ScaleDenominator>559082264.0287178</ScaleDenominator><TopLeftCorner>-2.0037508342789244e+07 2.0037508342789244e+07</TopLeftCorner><TileWidth>256</TileWidth><TileHeight>256</TileHeight><MatrixWidth>1</MatrixWidth><MatrixHeight>1</MatrixHeight></TileMatrix><TileMatrix><ows:Identifier>1</ows:Identifier><ScaleDenominator>279541132.0143589</ScaleDenominator><TopLeftCorner>-2.0037508342789244e+07 2.0037508342789244e+07</TopLeftCorner><TileWidth>256</TileWidth><TileHeight>256</TileHeight><MatrixWidth>2</MatrixWidth><MatrixHeight>2</MatrixHeight></TileMatrix><TileMatrix><ows:Identifier>2</ows:Identifier><ScaleDenominator>139770566.00717944</ScaleDenominator><TopLeftCorner>-2.0037508342789244e+07 2.0037508342789244e+07</TopLeftCorner><TileWidth>256</TileWidth><TileHeight>256</TileHeight><MatrixWidth>4</MatrixWidth><MatrixHeight>4</MatrixHeight></TileMatrix><TileMatrix><ows:Identifier>3</ows:Identifier><ScaleDenominator>69885283.00358972</ScaleDenominator><TopLeftCorner>-2.0037508342789244e+07 2.0037508342789244e+07</TopLeftCorner><TileWidth>256</TileWidth><TileHeight>256</TileHeight><MatrixWidth>8</MatrixWidth><MatrixHeight>8</MatrixHeight></TileMatrix><TileMatrix><ows:Identifier>4</ows:Identifier><ScaleDenominator>34942641.50179486</ScaleDenominator><TopLeftCorner>-2.0037508342789244e+07 2.0037508342789244e+07</TopLeftCorner><TileWidth>256</TileWidth><TileHeight>256</TileHeight><MatrixWidth>16</MatrixWidth><MatrixHeight>16</MatrixHeight></TileMatrix><TileMatrix><ows:Identifier>5</ows:Identifier><ScaleDenominator>17471320.75089743</ScaleDenominator><TopLeftCorner>-2.0037508342789244e+07 2.0037508342789244e+07</TopLeftCorner><TileWidth>256</TileWidth><TileHeight>256</TileHeight><MatrixWidth>32</MatrixWidth><MatrixHeight>32</MatrixHeight></TileMatrix><TileMatrix><ows:Identifier>6</ows:Identifier><ScaleDenominator>8735660.375448715</ScaleDenominator><TopLeftCorner>-2.0037508342789244e+07 2.0037508342789244e+07</TopLeftCorner><TileWidth>256</TileWidth><TileHeight>256</TileHeight><MatrixWidth>64</MatrixWidth><MatrixHeight>64</MatrixHeight></TileMatrix><TileMatrix><ows:Identifier>7</ows:Identifier><ScaleDenominator>4367830.1877243575</ScaleDenominator><TopLeftCorner>-2.0037508342789244e+07 2.0037508342789244e+07</TopLeftCorner><TileWidth>256</TileWidth><TileHeight>256</TileHeight><MatrixWidth>128</MatrixWidth><MatrixHeight>128</MatrixHeight></TileMatrix><TileMatrix><ows:Identifier>8</ows:Identifier><ScaleDenominator>2183915.0938621787</ScaleDenominator><TopLeftCorner>-2.0037508342789244e+07 2.0037508342789244e+07</TopLeftCorner><TileWidth>256</TileWidth><TileHeight>256</TileHeight><MatrixWidth>256</MatrixWidth><MatrixHeight>256</MatrixHeight></TileMatrix><TileMatrix><ows:Identifier>9</ows:Identifier><ScaleDenominator>1091957.5469310894</ScaleDenominator><TopLeftCorner>-2.0037508342789244e+07 2.0037508342789244e+07</TopLeftCorner><TileWidth>256</TileWidth><TileHeight>256</TileHeight><MatrixWidth>512</MatrixWidth><MatrixHeight>512</MatrixHeight></TileMatrix><TileMatrix><ows:Identifier>10</ows:Identifier><ScaleDenominator>545978.7734655447</ScaleDenominator><TopLeftCorner>-2.0037508342789244e+07 2.0037508342789244e+07</TopLeftCorner><TileWidth>256</TileWidth><TileHeight>256</TileHeight><MatrixWidth>1024</MatrixWidth><MatrixHeight>1024</MatrixHeight></TileMatrix><TileMatrix><ows:Identifier>11</ows:Identifier><ScaleDenominator>272989.38673277234</ScaleDenominator><TopLeftCorner>-2.0037508342789244e+07 2.0037508342789244e+07</TopLeftCorner><TileWidth>256</TileWidth><TileHeight>256</TileHeight><MatrixWidth>2048</MatrixWidth><MatrixHeight>2048</MatrixHeight></TileMatrix><TileMatrix><ows:Identifier>12</ows:Identifier><ScaleDenominator>136494.69336638617</ScaleDenominator><TopLeftCorner>-2.0037508342789244e+07 2.0037508342789244e+07</TopLeftCorner><TileWidth>256</TileWidth><TileHeight>256</TileHeight><MatrixWidth>4096</MatrixWidth><MatrixHeight>4096</MatrixHeight></TileMatrix><TileMatrix><ows:Identifier>13</ows:Identifier><ScaleDenominator>68247.34668319309</ScaleDenominator><TopLeftCorner>-2.0037508342789244e+07 2.0037508342789244e+07</TopLeftCorner><TileWidth>256</TileWidth><TileHeight>256</TileHeight><MatrixWidth>8192</MatrixWidth><MatrixHeight>8192</MatrixHeight></TileMatrix><TileMatrix><ows:Identifier>14</ows:Identifier><ScaleDenominator>34123.67334159654</ScaleDenominator><TopLeftCorner>-2.0037508342789244e+07 2.0037508342789244e+07</TopLeftCorner><TileWidth>256</TileWidth><TileHeight>256</TileHeight><MatrixWidth>16384</MatrixWidth><MatrixHeight>16384</MatrixHeight></TileMatrix><TileMatrix><ows:Identifier>15</ows:Identifier><ScaleDenominator>17061.83667079827</ScaleDenominator><TopLeftCorner>-2.0037508342789244e+07 2.0037508342789244e+07</TopLeftCorner><TileWidth>256</TileWidth><TileHeight>256</TileHeight><MatrixWidth>32768</MatrixWidth><MatrixHeight>32768</MatrixHeight></TileMatrix><TileMatrix><ows:Identifier>16</ows:Identifier><ScaleDenominator>8530.918335399136</ScaleDenominator><TopLeftCorner>-2.0037508342789244e+07 2.0037508342789244e+07</TopLeftCorner><TileWidth>256</TileWidth><TileHeight>256</TileHeight><MatrixWidth>65536</MatrixWidth><MatrixHeight>65536</MatrixHeight></TileMatrix><TileMatrix><ows:Identifier>17</ows:Identifier><ScaleDenominator>4265.459167699568</ScaleDenominator><TopLeftCorner>-2.0037508342789244e+07 2.0037508342789244e+07</TopLeftCorner><TileWidth>256</TileWidth><TileHeight>256</TileHeight><MatrixWidth>131072</MatrixWidth><MatrixHeight>131072</MatrixHeight></TileMatrix><TileMatrix><ows:Identifier>18</ows:Identifier><ScaleDenominator>2132.729583849784</ScaleDenominator><TopLeftCorner>-2.0037508342789244e+07 2.0037508342789244e+07</TopLeftCorner><TileWidth>256</TileWidth><TileHeight>256</TileHeight><MatrixWidth>262144</MatrixWidth><MatrixHeight>262144</MatrixHeight></TileMatrix><TileMatrix><ows:Identifier>19</ows:Identifier><ScaleDenominator>1066.364791924892</ScaleDenominator><TopLeftCorner>-2.0037508342789244e+07 2.0037508342789244e+07</TopLeftCorner><TileWidth>256</TileWidth><TileHeight>256</TileHeight><MatrixWidth>524288</MatrixWidth><MatrixHeight>524288</MatrixHeight></TileMatrix><TileMatrix><ows:Identifier>20</ows:Identifier><ScaleDenominator>533.182395962446</ScaleDenominator><TopLeftCorner>-2.0037508342789244e+07 2.0037508342789244e+07</TopLeftCorner><TileWidth>256</TileWidth><TileHeight>256</TileHeight><MatrixWidth>1048576</MatrixWidth><MatrixHeight>1048576</MatrixHeight></TileMatrix><TileMatrix><ows:Identifier>21</ows:Identifier><ScaleDenominator>266.591197981223</ScaleDenominator><TopLeftCorner>-2.0037508342789244e+07 2.0037508342789244e+07</TopLeftCorner><TileWidth>256</TileWidth><TileHeight>256</TileHeight><MatrixWidth>2097152</MatrixWidth><MatrixHeight>2097152</MatrixHeight></TileMatrix><TileMatrix><ows:Identifier>22</ows:Identifier><ScaleDenominator>133.2955989906115</ScaleDenominator><TopLeftCorner>-2.0037508342789244e+07 2.0037508342789244e+07</TopLeftCorner><TileWidth>256</TileWidth><TileHeight>256</TileHeight><MatrixWidth>4194304</MatrixWidth><MatrixHeight>4194304</MatrixHeight></TileMatrix><TileMatrix><ows:Identifier>23</ows:Identifier><ScaleDenominator>66.64779949530575</ScaleDenominator><TopLeftCorner>-2.0037508342789244e+07 2.0037508342789244e+07</TopLeftCorner><TileWidth>256</TileWidth><TileHeight>256</TileHeight><MatrixWidth>8388608</MatrixWidth><MatrixHeight>8388608</MatrixHeight></TileMatrix><TileMatrix><ows:Identifier>24</ows:Identifier><ScaleDenominator>33.323899747652874</ScaleDenominator><TopLeftCorner>-2.0037508342789244e+07 2.0037508342789244e+07</TopLeftCorner><TileWidth>256</TileWidth><TileHeight>256</TileHeight><MatrixWidth>16777216</MatrixWidth><MatrixHeight>16777216</MatrixHeight></TileMatrix></TileMatrixSet></Contents></Capabilities>